BEGIN:VCALENDAR
VERSION:2.0
PRODID:-//ChamberMaster//Event Calendar 2.0//EN
METHOD:PUBLISH
X-PUBLISHED-TTL:P3D
REFRESH-INTERVAL:P3D
CALSCALE:GREGORIAN
BEGIN:VEVENT
DTSTART:20091029T150000Z
DTEND:20091029T040000Z
X-MICROSOFT-CDO-ALLDAYEVENT:FALSE
SUMMARY:Expo Seminar - Getting Blood from a Stone.........
DESCRIPTION:
X-ALT-DESC;FMTTYPE=text/html:
LOCATION:DCU Center
UID:e.2083.558
SEQUENCE:3
DTSTAMP:20260422T221104Z
URL:https://business.worcesterchamber.org/events/details/expo-seminar-getting-blood-from-a-stone-10-29-2009-558
END:VEVENT

END:VCALENDAR
