BEGIN:VCALENDAR
VERSION:2.0
PRODID:-//ChamberMaster//Event Calendar 2.0//EN
METHOD:PUBLISH
X-PUBLISHED-TTL:P3D
REFRESH-INTERVAL:P3D
CALSCALE:GREGORIAN
BEGIN:VEVENT
DTSTART:20091029T190000Z
DTEND:20091029T040000Z
X-MICROSOFT-CDO-ALLDAYEVENT:FALSE
SUMMARY:Expo Seminar - SBA Programs & Services.............
DESCRIPTION:
X-ALT-DESC;FMTTYPE=text/html:
LOCATION:DCU Center
UID:e.2083.565
SEQUENCE:3
DTSTAMP:20260422T221012Z
URL:https://business.worcesterchamber.org/events/details/expo-seminar-sba-programs-services-10-29-2009-565
END:VEVENT

END:VCALENDAR
