BEGIN:VCALENDAR
VERSION:2.0
PRODID:-//ChamberMaster//Event Calendar 2.0//EN
METHOD:PUBLISH
X-PUBLISHED-TTL:P3D
REFRESH-INTERVAL:P3D
CALSCALE:GREGORIAN
BEGIN:VEVENT
DTSTART:20091029T180000Z
DTEND:20091029T040000Z
X-MICROSOFT-CDO-ALLDAYEVENT:FALSE
SUMMARY:Expo Seminar - Smart Marketing for Small Businesses
DESCRIPTION:
X-ALT-DESC;FMTTYPE=text/html:
LOCATION:DCU Center
UID:e.2083.561
SEQUENCE:3
DTSTAMP:20260422T222325Z
URL:https://business.worcesterchamber.org/events/details/expo-seminar-smart-marketing-for-small-businesses-10-29-2009-561
END:VEVENT

END:VCALENDAR
