BEGIN:VCALENDAR
VERSION:2.0
PRODID:-//ChamberMaster//Event Calendar 2.0//EN
METHOD:PUBLISH
X-PUBLISHED-TTL:P3D
REFRESH-INTERVAL:P3D
CALSCALE:GREGORIAN
BEGIN:VEVENT
DTSTART:20091029T151500Z
DTEND:20091029T040000Z
X-MICROSOFT-CDO-ALLDAYEVENT:FALSE
SUMMARY:Expo Seminiar - Alternative Financing for Massachusetts
DESCRIPTION:
X-ALT-DESC;FMTTYPE=text/html:
LOCATION:DCU Center
UID:e.2083.559
SEQUENCE:3
DTSTAMP:20260422T221745Z
URL:https://business.worcesterchamber.org/events/details/expo-seminiar-alternative-financing-for-massachusetts-10-29-2009-559
END:VEVENT

END:VCALENDAR
