BEGIN:VCALENDAR
VERSION:2.0
PRODID:-//ChamberMaster//Event Calendar 2.0//EN
METHOD:PUBLISH
X-PUBLISHED-TTL:P3D
REFRESH-INTERVAL:P3D
CALSCALE:GREGORIAN
BEGIN:VEVENT
DTSTART:20090728T000000Z
DTEND:20090728T000000Z
X-MICROSOFT-CDO-ALLDAYEVENT:FALSE
SUMMARY:Golf Outing 2009 - Silent Auction - 7/22/2009
DESCRIPTION:
X-ALT-DESC;FMTTYPE=text/html:
LOCATION:Worcester Country Club
UID:e.2083.538
SEQUENCE:3
DTSTAMP:20260423T025805Z
URL:https://business.worcesterchamber.org/events/details/golf-outing-2009-silent-auction-7-22-2009-07-27-2009-538
END:VEVENT

END:VCALENDAR
