BEGIN:VCALENDAR
VERSION:2.0
PRODID:-//ChamberMaster//Event Calendar 2.0//EN
METHOD:PUBLISH
X-PUBLISHED-TTL:P3D
REFRESH-INTERVAL:P3D
CALSCALE:GREGORIAN
BEGIN:VEVENT
DTSTART:20110923T140000Z
DTEND:20110923T230000Z
X-MICROSOFT-CDO-ALLDAYEVENT:FALSE
SUMMARY:Golf Outing 2011 - Green Hill- Raffle
DESCRIPTION:
X-ALT-DESC;FMTTYPE=text/html:
LOCATION:Green Hill
UID:e.2083.756
SEQUENCE:3
DTSTAMP:20260421T113213Z
URL:https://business.worcesterchamber.org/events/details/golf-outing-2011-green-hill-raffle-09-23-2011-756
END:VEVENT

END:VCALENDAR
