BEGIN:VCALENDAR
VERSION:2.0
PRODID:-//ChamberMaster//Event Calendar 2.0//EN
METHOD:PUBLISH
X-PUBLISHED-TTL:P3D
REFRESH-INTERVAL:P3D
CALSCALE:GREGORIAN
BEGIN:VEVENT
DTSTART:20110725T140000Z
DTEND:20110725T230000Z
X-MICROSOFT-CDO-ALLDAYEVENT:FALSE
SUMMARY:Golf Outing 2011- Live Auction
DESCRIPTION:
X-ALT-DESC;FMTTYPE=text/html:
LOCATION:Worcester County Club
UID:e.2083.743
SEQUENCE:3
DTSTAMP:20260421T143223Z
URL:https://business.worcesterchamber.org/events/details/golf-outing-2011-live-auction-07-25-2011-743
END:VEVENT

END:VCALENDAR
