BEGIN:VCALENDAR
VERSION:2.0
PRODID:-//ChamberMaster//Event Calendar 2.0//EN
METHOD:PUBLISH
X-PUBLISHED-TTL:P3D
REFRESH-INTERVAL:P3D
CALSCALE:GREGORIAN
BEGIN:VEVENT
DTSTART:20110923T130000Z
DTEND:20110923T210000Z
X-MICROSOFT-CDO-ALLDAYEVENT:FALSE
SUMMARY:Golf Outing\, Green Hill\, 9/23/11\, Ball Drop Ticket Sales
DESCRIPTION:
X-ALT-DESC;FMTTYPE=text/html:
LOCATION:Green Hill Golf Course
UID:e.2083.753
SEQUENCE:3
DTSTAMP:20260421T113654Z
URL:https://business.worcesterchamber.org/events/details/golf-outing-green-hill-9-23-11-ball-drop-ticket-sales-09-23-2011-753
END:VEVENT

END:VCALENDAR
