BEGIN:VCALENDAR
VERSION:2.0
PRODID:-//ChamberMaster//Event Calendar 2.0//EN
METHOD:PUBLISH
X-PUBLISHED-TTL:P3D
REFRESH-INTERVAL:P3D
CALSCALE:GREGORIAN
BEGIN:VEVENT
DTSTART:20091029T141500Z
DTEND:20091029T040000Z
X-MICROSOFT-CDO-ALLDAYEVENT:FALSE
SUMMARY:H1N1: Is YOUR Business Prepared
DESCRIPTION:
X-ALT-DESC;FMTTYPE=text/html:
LOCATION:DCU Center
UID:e.2083.557
SEQUENCE:3
DTSTAMP:20260422T221845Z
URL:https://business.worcesterchamber.org/events/details/h1n1-is-your-business-prepared-10-29-2009-557
END:VEVENT

END:VCALENDAR
