BEGIN:VCALENDAR
VERSION:2.0
PRODID:-//ChamberMaster//Event Calendar 2.0//EN
METHOD:PUBLISH
X-PUBLISHED-TTL:P3D
REFRESH-INTERVAL:P3D
CALSCALE:GREGORIAN
BEGIN:VEVENT
DTSTART:20100226T130000Z
DTEND:20100226T180000Z
X-MICROSOFT-CDO-ALLDAYEVENT:FALSE
SUMMARY:Health Care Open Enrollment - Open House Sponsors 2/26/10
DESCRIPTION:
X-ALT-DESC;FMTTYPE=text/html:
LOCATION:Worcester Regional Chamber of Commerce
UID:e.2083.603
SEQUENCE:3
DTSTAMP:20260422T160042Z
URL:https://business.worcesterchamber.org/events/details/health-care-open-enrollment-open-house-sponsors-2-26-10-02-26-2010-603
END:VEVENT

END:VCALENDAR
