BEGIN:VCALENDAR
VERSION:2.0
PRODID:-//ChamberMaster//Event Calendar 2.0//EN
METHOD:PUBLISH
X-PUBLISHED-TTL:P3D
REFRESH-INTERVAL:P3D
CALSCALE:GREGORIAN
BEGIN:VEVENT
DTSTART:20091101T040000Z
DTEND:20091231T050000Z
X-MICROSOFT-CDO-ALLDAYEVENT:FALSE
SUMMARY:Market Place Mailer - 2009
DESCRIPTION:
X-ALT-DESC;FMTTYPE=text/html:
LOCATION:WRCC
UID:e.2083.571
SEQUENCE:3
DTSTAMP:20260422T190544Z
URL:https://business.worcesterchamber.org/events/details/market-place-mailer-2009-11-01-2009-571
END:VEVENT

END:VCALENDAR
