BEGIN:VCALENDAR
VERSION:2.0
PRODID:-//ChamberMaster//Event Calendar 2.0//EN
METHOD:PUBLISH
X-PUBLISHED-TTL:P3D
REFRESH-INTERVAL:P3D
CALSCALE:GREGORIAN
BEGIN:VEVENT
DTSTART:20090925T133000Z
DTEND:20090925T150000Z
X-MICROSOFT-CDO-ALLDAYEVENT:FALSE
SUMMARY:Maximizing Your Trade Show Investment Seminar 9/25/09
DESCRIPTION:
X-ALT-DESC;FMTTYPE=text/html:
LOCATION:Worcester Regional Chamber of Commerce
UID:e.2083.541
SEQUENCE:3
DTSTAMP:20260423T000528Z
URL:https://business.worcesterchamber.org/events/details/maximizing-your-trade-show-investment-seminar-9-25-09-09-25-2009-541
END:VEVENT

END:VCALENDAR
