BEGIN:VCALENDAR
VERSION:2.0
PRODID:-//ChamberMaster//Event Calendar 2.0//EN
METHOD:PUBLISH
X-PUBLISHED-TTL:P3D
REFRESH-INTERVAL:P3D
CALSCALE:GREGORIAN
BEGIN:VEVENT
DTSTART:20090609T120000Z
DTEND:20090611T200000Z
X-MICROSOFT-CDO-ALLDAYEVENT:FALSE
SUMMARY:Membership Drive 2009 - Sponsorship
DESCRIPTION:
X-ALT-DESC;FMTTYPE=text/html:
LOCATION:Worcester Regional Chamber of Commerce
UID:e.2083.502
SEQUENCE:3
DTSTAMP:20260423T044757Z
URL:https://business.worcesterchamber.org/events/details/membership-drive-2009-sponsorship-06-09-2009-502
END:VEVENT

END:VCALENDAR
