BEGIN:VCALENDAR
VERSION:2.0
PRODID:-//ChamberMaster//Event Calendar 2.0//EN
METHOD:PUBLISH
X-PUBLISHED-TTL:P3D
REFRESH-INTERVAL:P3D
CALSCALE:GREGORIAN
BEGIN:VEVENT
DTSTART:20100525T120000Z
DTEND:20100527T200000Z
X-MICROSOFT-CDO-ALLDAYEVENT:FALSE
SUMMARY:Membership Drive 2010- Sponsorship
DESCRIPTION:
X-ALT-DESC;FMTTYPE=text/html:
LOCATION:Worcester Regional Chamber of Commerce
UID:e.2083.607
SEQUENCE:3
DTSTAMP:20260422T114448Z
URL:https://business.worcesterchamber.org/events/details/membership-drive-2010-sponsorship-05-25-2010-607
END:VEVENT

END:VCALENDAR
