BEGIN:VCALENDAR
VERSION:2.0
PRODID:-//ChamberMaster//Event Calendar 2.0//EN
METHOD:PUBLISH
X-PUBLISHED-TTL:P3D
REFRESH-INTERVAL:P3D
CALSCALE:GREGORIAN
BEGIN:VEVENT
DTSTART:20100929T150000Z
DTEND:20100929T170000Z
X-MICROSOFT-CDO-ALLDAYEVENT:FALSE
SUMMARY:N. E. Business Expo 2010 Training
DESCRIPTION:
X-ALT-DESC;FMTTYPE=text/html:
LOCATION:Worcester Regional Chamber of Commerce
UID:e.2083.653
SEQUENCE:3
DTSTAMP:20260422T054255Z
URL:https://business.worcesterchamber.org/events/details/n-e-business-expo-2010-training-09-29-2010-653
END:VEVENT

END:VCALENDAR
