BEGIN:VCALENDAR
VERSION:2.0
PRODID:-//ChamberMaster//Event Calendar 2.0//EN
METHOD:PUBLISH
X-PUBLISHED-TTL:P3D
REFRESH-INTERVAL:P3D
CALSCALE:GREGORIAN
BEGIN:VEVENT
DTSTART:20101028T160000Z
DTEND:20101028T173000Z
X-MICROSOFT-CDO-ALLDAYEVENT:FALSE
SUMMARY:N E Business Expo Lunch 2010
DESCRIPTION:
X-ALT-DESC;FMTTYPE=text/html:
LOCATION:DCU Center - Main Expo Floor
UID:e.2083.658
SEQUENCE:3
DTSTAMP:20260422T042440Z
URL:https://business.worcesterchamber.org/events/details/n-e-business-expo-lunch-2010-10-28-2010-658
END:VEVENT

END:VCALENDAR
