BEGIN:VCALENDAR
VERSION:2.0
PRODID:-//ChamberMaster//Event Calendar 2.0//EN
METHOD:PUBLISH
X-PUBLISHED-TTL:P3D
REFRESH-INTERVAL:P3D
CALSCALE:GREGORIAN
BEGIN:VEVENT
DTSTART:20111103T160000Z
DTEND:20111103T173000Z
X-MICROSOFT-CDO-ALLDAYEVENT:FALSE
SUMMARY:N E Business Expo Lunch 2011
DESCRIPTION:
X-ALT-DESC;FMTTYPE=text/html:
LOCATION:DCU Center - Main Expo Floor
UID:e.2083.761
SEQUENCE:3
DTSTAMP:20260421T082526Z
URL:https://business.worcesterchamber.org/events/details/n-e-business-expo-lunch-2011-11-03-2011-761
END:VEVENT

END:VCALENDAR
