BEGIN:VCALENDAR
VERSION:2.0
PRODID:-//ChamberMaster//Event Calendar 2.0//EN
METHOD:PUBLISH
X-PUBLISHED-TTL:P3D
REFRESH-INTERVAL:P3D
CALSCALE:GREGORIAN
BEGIN:VEVENT
DTSTART:20121101T160000Z
DTEND:20121101T173000Z
X-MICROSOFT-CDO-ALLDAYEVENT:FALSE
SUMMARY:N E Business Expo Lunch 2012
DESCRIPTION:
X-ALT-DESC;FMTTYPE=text/html:
LOCATION:DCU Center - Main Expo Floor
UID:e.2083.846
SEQUENCE:3
DTSTAMP:20260420T141807Z
URL:https://business.worcesterchamber.org/events/details/n-e-business-expo-lunch-2012-11-01-2012-846
END:VEVENT

END:VCALENDAR
