BEGIN:VCALENDAR
VERSION:2.0
PRODID:-//ChamberMaster//Event Calendar 2.0//EN
METHOD:PUBLISH
X-PUBLISHED-TTL:P3D
REFRESH-INTERVAL:P3D
CALSCALE:GREGORIAN
BEGIN:VEVENT
DTSTART:20090717T000000Z
DTEND:20090717T010000Z
X-MICROSOFT-CDO-ALLDAYEVENT:FALSE
SUMMARY:New Member Orientation\, July 16\, 2009
DESCRIPTION:
X-ALT-DESC;FMTTYPE=text/html:
LOCATION:Worcester Chamber
UID:e.2083.531
SEQUENCE:3
DTSTAMP:20260423T030014Z
URL:https://business.worcesterchamber.org/events/details/new-member-orientation-july-16-2009-07-16-2009-531
END:VEVENT

END:VCALENDAR
