BEGIN:VCALENDAR
VERSION:2.0
PRODID:-//ChamberMaster//Event Calendar 2.0//EN
METHOD:PUBLISH
X-PUBLISHED-TTL:P3D
REFRESH-INTERVAL:P3D
CALSCALE:GREGORIAN
BEGIN:VEVENT
DTSTART:20120914T000000Z
DTEND:20120914T010000Z
X-MICROSOFT-CDO-ALLDAYEVENT:FALSE
SUMMARY:New Member Orientation - September 13\, 2012
DESCRIPTION:
X-ALT-DESC;FMTTYPE=text/html:
LOCATION:WRCC
UID:e.2083.831
SEQUENCE:3
DTSTAMP:20260420T182737Z
URL:https://business.worcesterchamber.org/events/details/new-member-orientation-september-13-2012-09-13-2012-831
END:VEVENT

END:VCALENDAR
