BEGIN:VCALENDAR
VERSION:2.0
PRODID:-//ChamberMaster//Event Calendar 2.0//EN
METHOD:PUBLISH
X-PUBLISHED-TTL:P3D
REFRESH-INTERVAL:P3D
CALSCALE:GREGORIAN
BEGIN:VEVENT
DTSTART:20090901T231500Z
DTEND:20100901T010000Z
X-MICROSOFT-CDO-ALLDAYEVENT:FALSE
SUMMARY:Referral Program - Worcester - Member Dues 9/1/09 - 8/31/10
DESCRIPTION:
X-ALT-DESC;FMTTYPE=text/html:
LOCATION:446 Main Street\, Ste 200
UID:e.2083.535
SEQUENCE:3
DTSTAMP:20260422T072611Z
URL:https://business.worcesterchamber.org/events/details/referral-program-worcester-member-dues-9-1-09-8-31-10-09-01-2009-535
END:VEVENT

END:VCALENDAR
