BEGIN:VCALENDAR
VERSION:2.0
PRODID:-//ChamberMaster//Event Calendar 2.0//EN
METHOD:PUBLISH
X-PUBLISHED-TTL:P3D
REFRESH-INTERVAL:P3D
CALSCALE:GREGORIAN
BEGIN:VEVENT
DTSTART:20260514T190000Z
DTEND:20260514T200000Z
X-MICROSOFT-CDO-ALLDAYEVENT:FALSE
SUMMARY:Ribbon Cutting - Veteran Support Services
DESCRIPTION:"At Veterans Support Services\, our mission is to provide a friendly and supportive environment for veterans\, guiding them to access education\, direct them to state and federal benefits\, and offer free programs aimed at enhancing their well-being in areas such as community\, mental health\, medical support\, and housing."\n\n\n\nVeterans Support Services was founded in 2025 by Julio Zayas\, a proud U.S. Air Force veteran\, who recognized the need for a local organization dedicated to supporting fellow veterans. Julio's personal experience and understanding of the challenges veterans face led to the creation of a compassionate\, veteran-focused initiative.
X-ALT-DESC;FMTTYPE=text/html:<br />\n<span style="color: rgb(94\, 94\, 94)\; font-family: Poppins\, arial\, sans-serif\; font-size: 18px\; text-align: center\;">&quot\;At Veterans Support Services\, our mission is to provide a friendly and supportive environment for veterans\, guiding them to access education\, direct them to state and federal benefits\, and offer free programs aimed at enhancing their well-being in areas such as community\, mental health\, medical support\, and housing.&quot\;<br />\n<br />\nVeterans Support Services was founded in 2025 by Julio Zayas\, a proud U.S. Air Force veteran\, who recognized the need for a local organization dedicated to supporting fellow veterans. Julio&#39\;s personal experience and understanding of the challenges veterans face led to the creation of a compassionate\, veteran-focused initiative.&nbsp\;</span>
LOCATION:Veterans Support Services 287 Grove St Worcester\, Ma 01605
UID:e.2083.23846
SEQUENCE:3
DTSTAMP:20260425T163110Z
URL:https://business.worcesterchamber.org/events/details/ribbon-cutting-veteran-support-services-23846
END:VEVENT

END:VCALENDAR
