BEGIN:VCALENDAR
VERSION:2.0
PRODID:-//ChamberMaster//Event Calendar 2.0//EN
METHOD:PUBLISH
X-PUBLISHED-TTL:P3D
REFRESH-INTERVAL:P3D
CALSCALE:GREGORIAN
BEGIN:VEVENT
DTSTART:20100101T130000Z
DTEND:20101231T220000Z
X-MICROSOFT-CDO-ALLDAYEVENT:FALSE
SUMMARY:SCORE Transactions\, 2010
DESCRIPTION:
X-ALT-DESC;FMTTYPE=text/html:
LOCATION:
UID:e.2083.587
SEQUENCE:3
DTSTAMP:20260422T011837Z
URL:https://business.worcesterchamber.org/events/details/score-transactions-2010-01-01-2010-587
END:VEVENT

END:VCALENDAR
