BEGIN:VCALENDAR
VERSION:2.0
PRODID:-//ChamberMaster//Event Calendar 2.0//EN
METHOD:PUBLISH
X-PUBLISHED-TTL:P3D
REFRESH-INTERVAL:P3D
CALSCALE:GREGORIAN
BEGIN:VEVENT
DTSTART:20120101T130000Z
DTEND:20121231T220000Z
X-MICROSOFT-CDO-ALLDAYEVENT:FALSE
SUMMARY:Search Engine Marketing - 2012
DESCRIPTION:
X-ALT-DESC;FMTTYPE=text/html:
LOCATION:Worcester Regional Chamber of Commerce
UID:e.2083.784
SEQUENCE:3
DTSTAMP:20260420T141622Z
URL:https://business.worcesterchamber.org/events/details/search-engine-marketing-2012-01-01-2012-784
END:VEVENT

END:VCALENDAR
