BEGIN:VCALENDAR
VERSION:2.0
PRODID:-//ChamberMaster//Event Calendar 2.0//EN
METHOD:PUBLISH
X-PUBLISHED-TTL:P3D
REFRESH-INTERVAL:P3D
CALSCALE:GREGORIAN
BEGIN:VEVENT
DTSTART:20100428T120000Z
DTEND:20100428T133000Z
X-MICROSOFT-CDO-ALLDAYEVENT:FALSE
SUMMARY:Seminar - Financial Strategies for the Success of New...4/28
DESCRIPTION:
X-ALT-DESC;FMTTYPE=text/html:
LOCATION:Worcester Chamber
UID:e.2083.614
SEQUENCE:3
DTSTAMP:20260422T130740Z
URL:https://business.worcesterchamber.org/events/details/seminar-financial-strategies-for-the-success-of-new-4-28-04-28-2010-614
END:VEVENT

END:VCALENDAR
