BEGIN:VCALENDAR
VERSION:2.0
PRODID:-//ChamberMaster//Event Calendar 2.0//EN
METHOD:PUBLISH
X-PUBLISHED-TTL:P3D
REFRESH-INTERVAL:P3D
CALSCALE:GREGORIAN
BEGIN:VEVENT
DTSTART:20110505T120000Z
DTEND:20110505T140000Z
X-MICROSOFT-CDO-ALLDAYEVENT:FALSE
SUMMARY:Seminar - Getting Blood From a Stone - 5/5/11
DESCRIPTION:
X-ALT-DESC;FMTTYPE=text/html:
LOCATION:Worcester Chamber
UID:e.2083.705
SEQUENCE:3
DTSTAMP:20260421T174509Z
URL:https://business.worcesterchamber.org/events/details/seminar-getting-blood-from-a-stone-5-5-11-05-05-2011-705
END:VEVENT

END:VCALENDAR
