BEGIN:VCALENDAR
VERSION:2.0
PRODID:-//ChamberMaster//Event Calendar 2.0//EN
METHOD:PUBLISH
X-PUBLISHED-TTL:P3D
REFRESH-INTERVAL:P3D
CALSCALE:GREGORIAN
BEGIN:VEVENT
DTSTART:20100224T130000Z
DTEND:20100224T153000Z
X-MICROSOFT-CDO-ALLDAYEVENT:FALSE
SUMMARY:Seminar - Got Goals - 2/24/10
DESCRIPTION:
X-ALT-DESC;FMTTYPE=text/html:
LOCATION:Worcester Regional Chamber of Commerce
UID:e.2083.601
SEQUENCE:3
DTSTAMP:20260422T172910Z
URL:https://business.worcesterchamber.org/events/details/seminar-got-goals-2-24-10-02-24-2010-601
END:VEVENT

END:VCALENDAR
