BEGIN:VCALENDAR
VERSION:2.0
PRODID:-//ChamberMaster//Event Calendar 2.0//EN
METHOD:PUBLISH
X-PUBLISHED-TTL:P3D
REFRESH-INTERVAL:P3D
CALSCALE:GREGORIAN
BEGIN:VEVENT
DTSTART:20091201T130000Z
DTEND:20091201T153000Z
X-MICROSOFT-CDO-ALLDAYEVENT:FALSE
SUMMARY:Seminar - H1N1 - Preparing Your Business - 12/1/09
DESCRIPTION:
X-ALT-DESC;FMTTYPE=text/html:
LOCATION:Worcester Regional Chamber of Commerce
UID:e.2083.576
SEQUENCE:3
DTSTAMP:20260422T191020Z
URL:https://business.worcesterchamber.org/events/details/seminar-h1n1-preparing-your-business-12-1-09-12-01-2009-576
END:VEVENT

END:VCALENDAR
