BEGIN:VCALENDAR
VERSION:2.0
PRODID:-//ChamberMaster//Event Calendar 2.0//EN
METHOD:PUBLISH
X-PUBLISHED-TTL:P3D
REFRESH-INTERVAL:P3D
CALSCALE:GREGORIAN
BEGIN:VEVENT
DTSTART:20100408T120000Z
DTEND:20100408T140000Z
X-MICROSOFT-CDO-ALLDAYEVENT:FALSE
SUMMARY:Seminar - How to Get More Out of Your Lean Efforts - 4/8/10
DESCRIPTION:
X-ALT-DESC;FMTTYPE=text/html:
LOCATION:Worcester Chamber
UID:e.2083.611
SEQUENCE:3
DTSTAMP:20260422T132530Z
URL:https://business.worcesterchamber.org/events/details/seminar-how-to-get-more-out-of-your-lean-efforts-4-8-10-04-08-2010-611
END:VEVENT

END:VCALENDAR
