BEGIN:VCALENDAR
VERSION:2.0
PRODID:-//ChamberMaster//Event Calendar 2.0//EN
METHOD:PUBLISH
X-PUBLISHED-TTL:P3D
REFRESH-INTERVAL:P3D
CALSCALE:GREGORIAN
BEGIN:VEVENT
DTSTART:20100311T123000Z
DTEND:20100311T153000Z
X-MICROSOFT-CDO-ALLDAYEVENT:FALSE
SUMMARY:Seminar - How to Jump Start Your Business....... 3/11/10
DESCRIPTION:
X-ALT-DESC;FMTTYPE=text/html:
LOCATION:Worcester Regional Chamber of Commerce
UID:e.2083.598
SEQUENCE:3
DTSTAMP:20260422T155720Z
URL:https://business.worcesterchamber.org/events/details/seminar-how-to-jump-start-your-business-3-11-10-03-11-2010-598
END:VEVENT

END:VCALENDAR
