BEGIN:VCALENDAR
VERSION:2.0
PRODID:-//ChamberMaster//Event Calendar 2.0//EN
METHOD:PUBLISH
X-PUBLISHED-TTL:P3D
REFRESH-INTERVAL:P3D
CALSCALE:GREGORIAN
BEGIN:VEVENT
DTSTART:20100506T120000Z
DTEND:20100506T133000Z
X-MICROSOFT-CDO-ALLDAYEVENT:FALSE
SUMMARY:Seminar - Identity Theft: Employer... 5/6/10
DESCRIPTION:
X-ALT-DESC;FMTTYPE=text/html:
LOCATION:Worcester Chamber
UID:e.2083.615
SEQUENCE:3
DTSTAMP:20260422T114715Z
URL:https://business.worcesterchamber.org/events/details/seminar-identity-theft-employer-5-6-10-05-06-2010-615
END:VEVENT

END:VCALENDAR
