BEGIN:VCALENDAR
VERSION:2.0
PRODID:-//ChamberMaster//Event Calendar 2.0//EN
METHOD:PUBLISH
X-PUBLISHED-TTL:P3D
REFRESH-INTERVAL:P3D
CALSCALE:GREGORIAN
BEGIN:VEVENT
DTSTART:20100511T120000Z
DTEND:20100511T133000Z
X-MICROSOFT-CDO-ALLDAYEVENT:FALSE
SUMMARY:Seminar - Search Engine Optimization - 5/11/10
DESCRIPTION:
X-ALT-DESC;FMTTYPE=text/html:
LOCATION:Worcester Chamber
UID:e.2083.616
SEQUENCE:3
DTSTAMP:20260422T114327Z
URL:https://business.worcesterchamber.org/events/details/seminar-search-engine-optimization-5-11-10-05-11-2010-616
END:VEVENT

END:VCALENDAR
