BEGIN:VCALENDAR
VERSION:2.0
PRODID:-//ChamberMaster//Event Calendar 2.0//EN
METHOD:PUBLISH
X-PUBLISHED-TTL:P3D
REFRESH-INTERVAL:P3D
CALSCALE:GREGORIAN
BEGIN:VEVENT
DTSTART:20110408T120000Z
DTEND:20110408T140000Z
X-MICROSOFT-CDO-ALLDAYEVENT:FALSE
SUMMARY:Seminar - Social Media - ...Revolution - 4/8/11
DESCRIPTION:
X-ALT-DESC;FMTTYPE=text/html:
LOCATION:Worcester Chamber
UID:e.2083.702
SEQUENCE:3
DTSTAMP:20260421T204143Z
URL:https://business.worcesterchamber.org/events/details/seminar-social-media-revolution-4-8-11-04-08-2011-702
END:VEVENT

END:VCALENDAR
