BEGIN:VCALENDAR
VERSION:2.0
PRODID:-//ChamberMaster//Event Calendar 2.0//EN
METHOD:PUBLISH
X-PUBLISHED-TTL:P3D
REFRESH-INTERVAL:P3D
CALSCALE:GREGORIAN
BEGIN:VEVENT
DTSTART:20110414T120000Z
DTEND:20110414T140000Z
X-MICROSOFT-CDO-ALLDAYEVENT:FALSE
SUMMARY:Seminar - The Art of Negotiation - 4/14/11
DESCRIPTION:
X-ALT-DESC;FMTTYPE=text/html:
LOCATION:Worcester Chamber
UID:e.2083.703
SEQUENCE:3
DTSTAMP:20260421T191827Z
URL:https://business.worcesterchamber.org/events/details/seminar-the-art-of-negotiation-4-14-11-04-14-2011-703
END:VEVENT

END:VCALENDAR
