BEGIN:VCALENDAR
VERSION:2.0
PRODID:-//ChamberMaster//Event Calendar 2.0//EN
METHOD:PUBLISH
X-PUBLISHED-TTL:P3D
REFRESH-INTERVAL:P3D
CALSCALE:GREGORIAN
BEGIN:VEVENT
DTSTART:20110607T120000Z
DTEND:20110607T140000Z
X-MICROSOFT-CDO-ALLDAYEVENT:FALSE
SUMMARY:Seminar - Tips for Maintaining Your Website - 6/7/11
DESCRIPTION:
X-ALT-DESC;FMTTYPE=text/html:
LOCATION:Worcester Chamber
UID:e.2083.707
SEQUENCE:3
DTSTAMP:20260421T160209Z
URL:https://business.worcesterchamber.org/events/details/seminar-tips-for-maintaining-your-website-6-7-11-06-07-2011-707
END:VEVENT

END:VCALENDAR
