BEGIN:VCALENDAR
VERSION:2.0
PRODID:-//ChamberMaster//Event Calendar 2.0//EN
METHOD:PUBLISH
X-PUBLISHED-TTL:P3D
REFRESH-INTERVAL:P3D
CALSCALE:GREGORIAN
BEGIN:VEVENT
DTSTART:20110426T120000Z
DTEND:20110426T133000Z
X-MICROSOFT-CDO-ALLDAYEVENT:FALSE
SUMMARY:Senator Scott Brown Breakfast - 4/26/2011
DESCRIPTION:
X-ALT-DESC;FMTTYPE=text/html:
LOCATION:Washusett Village Inn
UID:e.2083.716
SEQUENCE:3
DTSTAMP:20260421T203218Z
URL:https://business.worcesterchamber.org/events/details/senator-scott-brown-breakfast-4-26-2011-04-26-2011-716
END:VEVENT

END:VCALENDAR
