BEGIN:VCALENDAR
VERSION:2.0
PRODID:-//ChamberMaster//Event Calendar 2.0//EN
METHOD:PUBLISH
X-PUBLISHED-TTL:P3D
REFRESH-INTERVAL:P3D
CALSCALE:GREGORIAN
BEGIN:VEVENT
DTSTART:20120510T110000Z
DTEND:20120510T130000Z
X-MICROSOFT-CDO-ALLDAYEVENT:FALSE
SUMMARY:Speed Networking\, 5/10/12\, College of the Holy Cross
DESCRIPTION:
X-ALT-DESC;FMTTYPE=text/html:
LOCATION:College of the Holy Cross\, Hogan Center
UID:e.2083.802
SEQUENCE:3
DTSTAMP:20260420T230550Z
URL:https://business.worcesterchamber.org/events/details/speed-networking-5-10-12-college-of-the-holy-cross-05-10-2012-802
END:VEVENT

END:VCALENDAR
