BEGIN:VCALENDAR
VERSION:2.0
PRODID:-//ChamberMaster//Event Calendar 2.0//EN
METHOD:PUBLISH
X-PUBLISHED-TTL:P3D
REFRESH-INTERVAL:P3D
CALSCALE:GREGORIAN
BEGIN:VEVENT
DTSTART:20210928T200000Z
DTEND:20210928T220000Z
X-MICROSOFT-CDO-ALLDAYEVENT:FALSE
SUMMARY:Tasteful Tuesday Networking Event at The Willows at Worcester!
DESCRIPTION:Come Network at The Willows at Worcester and learn more about your neighbor!
X-ALT-DESC;FMTTYPE=text/html:Come Network at The Willows at Worcester and learn more about your neighbor!&nbsp\;
LOCATION:101 Barry Road\, Worcester\, MA 01609 (Off of Salisbury Street)
UID:e.2083.13045
SEQUENCE:3
DTSTAMP:20260420T222027Z
URL:https://business.worcesterchamber.org/events/details/tasteful-tuesday-networking-event-at-the-willows-at-worcester-09-28-2021-13045
END:VEVENT

END:VCALENDAR
