BEGIN:VCALENDAR
VERSION:2.0
PRODID:-//ChamberMaster//Event Calendar 2.0//EN
METHOD:PUBLISH
X-PUBLISHED-TTL:P3D
REFRESH-INTERVAL:P3D
CALSCALE:GREGORIAN
BEGIN:VEVENT
DTSTART:20120607T113000Z
DTEND:20120607T130000Z
X-MICROSOFT-CDO-ALLDAYEVENT:FALSE
SUMMARY:Tax Abatement Seminar - 6/7/12
DESCRIPTION:
X-ALT-DESC;FMTTYPE=text/html:
LOCATION:Worcester Regional Chamber of Commerce
UID:e.2083.818
SEQUENCE:3
DTSTAMP:20260420T213808Z
URL:https://business.worcesterchamber.org/events/details/tax-abatement-seminar-6-7-12-06-07-2012-818
END:VEVENT

END:VCALENDAR
