BEGIN:VCALENDAR
VERSION:2.0
PRODID:-//ChamberMaster//Event Calendar 2.0//EN
METHOD:PUBLISH
X-PUBLISHED-TTL:P3D
REFRESH-INTERVAL:P3D
CALSCALE:GREGORIAN
BEGIN:VEVENT
DTSTART:20110603T113000Z
DTEND:20110603T213000Z
X-MICROSOFT-CDO-ALLDAYEVENT:FALSE
SUMMARY:The Worcester Women's Conference\, 6/03/11- Attendees
DESCRIPTION:
X-ALT-DESC;FMTTYPE=text/html:
LOCATION:DCU Center
UID:e.2083.697
SEQUENCE:3
DTSTAMP:20260421T160437Z
URL:https://business.worcesterchamber.org/events/details/the-worcester-women-s-conference-6-03-11-attendees-06-03-2011-697
END:VEVENT

END:VCALENDAR
