BEGIN:VCALENDAR
VERSION:2.0
PRODID:-//ChamberMaster//Event Calendar 2.0//EN
METHOD:PUBLISH
X-PUBLISHED-TTL:P3D
REFRESH-INTERVAL:P3D
CALSCALE:GREGORIAN
BEGIN:VEVENT
DTSTART:20110603T113000Z
DTEND:20110603T213000Z
X-MICROSOFT-CDO-ALLDAYEVENT:FALSE
SUMMARY:The Worcester Women's Conference\, 6/3/11 - Book Sales
DESCRIPTION:
X-ALT-DESC;FMTTYPE=text/html:
LOCATION:DCU Center
UID:e.2083.732
SEQUENCE:3
DTSTAMP:20260421T175036Z
URL:https://business.worcesterchamber.org/events/details/the-worcester-women-s-conference-6-3-11-book-sales-06-03-2011-732
END:VEVENT

END:VCALENDAR
