BEGIN:VCALENDAR
VERSION:2.0
PRODID:-//ChamberMaster//Event Calendar 2.0//EN
METHOD:PUBLISH
X-PUBLISHED-TTL:P3D
REFRESH-INTERVAL:P3D
CALSCALE:GREGORIAN
BEGIN:VEVENT
DTSTART:20120608T113000Z
DTEND:20120608T213000Z
X-MICROSOFT-CDO-ALLDAYEVENT:FALSE
SUMMARY:The Worcester Women's Conference\, 6/8/12 - Booths
DESCRIPTION:
X-ALT-DESC;FMTTYPE=text/html:
LOCATION:DCU Center
UID:e.2083.794
SEQUENCE:3
DTSTAMP:20260420T230534Z
URL:https://business.worcesterchamber.org/events/details/the-worcester-women-s-conference-6-8-12-booths-06-08-2012-794
END:VEVENT

END:VCALENDAR
