BEGIN:VCALENDAR
VERSION:2.0
PRODID:-//ChamberMaster//Event Calendar 2.0//EN
METHOD:PUBLISH
X-PUBLISHED-TTL:P3D
REFRESH-INTERVAL:P3D
CALSCALE:GREGORIAN
BEGIN:VEVENT
DTSTART:20121016T040000Z
DTEND:20121016T040000Z
X-MICROSOFT-CDO-ALLDAYEVENT:FALSE
SUMMARY:WDO 2012 Business & Home Show Prize Sponsorship
DESCRIPTION:WDO 2012 Business & Home Show Prize Sponsorship
X-ALT-DESC;FMTTYPE=text/html:WDO 2012 Business & Home Show Prize Sponsorship
LOCATION:
UID:e.2083.2192
SEQUENCE:3
DTSTAMP:20260420T153514Z
URL:https://business.worcesterchamber.org/events/details/wdo-2012-business-home-show-prize-sponsorship-10-16-2012-2192
END:VEVENT

END:VCALENDAR
