BEGIN:VCALENDAR
VERSION:2.0
PRODID:-//ChamberMaster//Event Calendar 2.0//EN
METHOD:PUBLISH
X-PUBLISHED-TTL:P3D
REFRESH-INTERVAL:P3D
CALSCALE:GREGORIAN
BEGIN:VEVENT
DTSTART:20110928T150000Z
DTEND:20110928T213000Z
X-MICROSOFT-CDO-ALLDAYEVENT:FALSE
SUMMARY:WDO Annual Golf Tournament - Beverage Cart Sponsor
DESCRIPTION:
X-ALT-DESC;FMTTYPE=text/html:
LOCATION:
UID:e.2083.758
SEQUENCE:3
DTSTAMP:20260421T131351Z
URL:https://business.worcesterchamber.org/events/details/wdo-annual-golf-tournament-beverage-cart-sponsor-09-28-2011-758
END:VEVENT

END:VCALENDAR
