BEGIN:VCALENDAR
VERSION:2.0
PRODID:-//ChamberMaster//Event Calendar 2.0//EN
METHOD:PUBLISH
X-PUBLISHED-TTL:P3D
REFRESH-INTERVAL:P3D
CALSCALE:GREGORIAN
BEGIN:VEVENT
DTSTART:20110517T040000Z
DTEND:20110517T040000Z
X-MICROSOFT-CDO-ALLDAYEVENT:FALSE
SUMMARY:WDO Business After Hours 5/17/11
DESCRIPTION:WDO Business After Hours 5/17/11
X-ALT-DESC;FMTTYPE=text/html:WDO Business After Hours 5/17/11
LOCATION:
UID:e.2083.2007
SEQUENCE:3
DTSTAMP:20260421T191531Z
URL:https://business.worcesterchamber.org/events/details/wdo-business-after-hours-5-17-11-05-17-2011-2007
END:VEVENT

END:VCALENDAR
