BEGIN:VCALENDAR
VERSION:2.0
PRODID:-//ChamberMaster//Event Calendar 2.0//EN
METHOD:PUBLISH
X-PUBLISHED-TTL:P3D
REFRESH-INTERVAL:P3D
CALSCALE:GREGORIAN
BEGIN:VEVENT
DTSTART:20100625T040000Z
DTEND:20100625T040000Z
X-MICROSOFT-CDO-ALLDAYEVENT:FALSE
SUMMARY:WDO Business After Hours 6/25/10
DESCRIPTION:WDO Business After Hours 6/25/10
X-ALT-DESC;FMTTYPE=text/html:WDO Business After Hours 6/25/10
LOCATION:
UID:e.2083.1887
SEQUENCE:3
DTSTAMP:20260422T113508Z
URL:https://business.worcesterchamber.org/events/details/wdo-business-after-hours-6-25-10-06-25-2010-1887
END:VEVENT

END:VCALENDAR
