BEGIN:VCALENDAR
VERSION:2.0
PRODID:-//ChamberMaster//Event Calendar 2.0//EN
METHOD:PUBLISH
X-PUBLISHED-TTL:P3D
REFRESH-INTERVAL:P3D
CALSCALE:GREGORIAN
BEGIN:VEVENT
DTSTART:20110607T040000Z
DTEND:20110607T040000Z
X-MICROSOFT-CDO-ALLDAYEVENT:FALSE
SUMMARY:WDO Business After Hours 6/7/11
DESCRIPTION:WDO Business After Hours 6/7/11
X-ALT-DESC;FMTTYPE=text/html:WDO Business After Hours 6/7/11
LOCATION:
UID:e.2083.2014
SEQUENCE:3
DTSTAMP:20260421T160210Z
URL:https://business.worcesterchamber.org/events/details/wdo-business-after-hours-6-7-11-06-07-2011-2014
END:VEVENT

END:VCALENDAR
