BEGIN:VCALENDAR
VERSION:2.0
PRODID:-//ChamberMaster//Event Calendar 2.0//EN
METHOD:PUBLISH
X-PUBLISHED-TTL:P3D
REFRESH-INTERVAL:P3D
CALSCALE:GREGORIAN
BEGIN:VEVENT
DTSTART:20120209T223000Z
DTEND:20120210T003000Z
X-MICROSOFT-CDO-ALLDAYEVENT:FALSE
SUMMARY:WDO Business After Hours - Feb. 9\, 2012
DESCRIPTION:
X-ALT-DESC;FMTTYPE=text/html:
LOCATION:
UID:e.2083.785
SEQUENCE:3
DTSTAMP:20260421T033316Z
URL:https://business.worcesterchamber.org/events/details/wdo-business-after-hours-feb-9-2012-02-09-2012-785
END:VEVENT

END:VCALENDAR
