BEGIN:VCALENDAR
VERSION:2.0
PRODID:-//ChamberMaster//Event Calendar 2.0//EN
METHOD:PUBLISH
X-PUBLISHED-TTL:P3D
REFRESH-INTERVAL:P3D
CALSCALE:GREGORIAN
BEGIN:VEVENT
DTSTART:20090626T040000Z
DTEND:20090626T040000Z
X-MICROSOFT-CDO-ALLDAYEVENT:FALSE
SUMMARY:WDO Business Educational After Hours 6/26/09
DESCRIPTION:WDO Business Educational After Hours 6/26/09
X-ALT-DESC;FMTTYPE=text/html:WDO Business Educational After Hours 6/26/09
LOCATION:
UID:e.2083.1737
SEQUENCE:3
DTSTAMP:20260423T045048Z
URL:https://business.worcesterchamber.org/events/details/wdo-business-educational-after-hours-6-26-09-06-26-2009-1737
END:VEVENT

END:VCALENDAR
