BEGIN:VCALENDAR
VERSION:2.0
PRODID:-//ChamberMaster//Event Calendar 2.0//EN
METHOD:PUBLISH
X-PUBLISHED-TTL:P3D
REFRESH-INTERVAL:P3D
CALSCALE:GREGORIAN
BEGIN:VEVENT
DTSTART:20110125T050000Z
DTEND:20110125T050000Z
X-MICROSOFT-CDO-ALLDAYEVENT:FALSE
SUMMARY:WDO Chamber Annual Meeting 2011
DESCRIPTION:WDO Chamber Annual Meeting 2011
X-ALT-DESC;FMTTYPE=text/html:WDO Chamber Annual Meeting 2011
LOCATION:Colonial Restaurant
UID:e.2083.1959
SEQUENCE:3
DTSTAMP:20260422T012315Z
URL:https://business.worcesterchamber.org/events/details/wdo-chamber-annual-meeting-2011-01-25-2011-1959
END:VEVENT

END:VCALENDAR
